
BEGIN:VCALENDAR
VERSION:2.0
PRODID:-//85.13.145.17//NONSGML kigkonsult.se iCalcreator 2.20//
CALSCALE:GREGORIAN
METHOD:PUBLISH
X-WR-TIMEZONE:Europe/Vienna
BEGIN:VEVENT
UID:event3454@Chorus Paradisi
DTSTAMP:20260423T103736Z
CATEGORIES:Sonstiger Auftritt
DESCRIPTION:Musikalische Umrahmung der Weihnachtsfeier der FF St. Margareth
 en\nCategory: Sonstiger Auftritt\nLink: https://chorusparadisi.at/index.ph
 p?option=com_jem&view=event&id=3454:musikalische-umrahmung-der-weihnachtsf
 eier-der-ff-st-margarethen\n
DTSTART;VALUE=DATE:20191214
DTEND;VALUE=DATE:20191215
LOCATION:Reiterhof Stückler\,Reiterhofstraße 38\,9412 St. Margarethen
SUMMARY:Musikalische Umrahmung der Weihnachtsfeier der FF St. Margarethen
URL:https://chorusparadisi.at/index.php?option=com_jem&view=event&id=3454:m
 usikalische-umrahmung-der-weihnachtsfeier-der-ff-st-margarethen
END:VEVENT
END:VCALENDAR
