
BEGIN:VCALENDAR
VERSION:2.0
PRODID:-//85.13.145.17//NONSGML kigkonsult.se iCalcreator 2.20//
CALSCALE:GREGORIAN
METHOD:PUBLISH
X-WR-TIMEZONE:Europe/Vienna
BEGIN:VEVENT
UID:event3453@Chorus Paradisi
DTSTAMP:20260424T103828Z
CATEGORIES:Hl. Messe
DESCRIPTION:Gestaltung der Christmette in der Pfarrkirche St. Margarethen\n
 Category: Hl. Messe\nLink: https://chorusparadisi.at/index.php?option=com_
 jem&view=event&id=3453:gestaltung-der-christmette\n
DTSTART;TZID=Europe/Vienna:20191224T180000
DTEND;TZID=Europe/Vienna:20191224T193000
LOCATION:Pfarrkirche St. Margarethen\,Weißenbachstrasse 58\,9412 St. Margar
 ethen
SUMMARY:Gestaltung der Christmette in der Pfarrkirche St. Margarethen
URL:https://chorusparadisi.at/index.php?option=com_jem&view=event&id=3453:g
 estaltung-der-christmette
END:VEVENT
END:VCALENDAR
