
BEGIN:VCALENDAR
VERSION:2.0
PRODID:-//85.13.145.17//NONSGML kigkonsult.se iCalcreator 2.20//
CALSCALE:GREGORIAN
METHOD:PUBLISH
X-WR-TIMEZONE:Europe/Vienna
BEGIN:VEVENT
UID:event3442@Chorus Paradisi
DTSTAMP:20260424T104540Z
CATEGORIES:Sonstiger Auftritt
DESCRIPTION:Eröffnung Christkindlmarkt Wolfsberg\nCategory: Sonstiger Auftr
 itt\nLink: https://chorusparadisi.at/index.php?option=com_jem&view=event&i
 d=3442:eroeffnung-christkindlmarkt-wolfsberg\n
DTSTART;TZID=Europe/Vienna:20191129T170000
DTEND;TZID=Europe/Vienna:20191129T180000
LOCATION:Gassersteig/Trattl \,Wolfsberg Rathausplatz 1\,9400 Wolfsberg 
SUMMARY:Eröffnung Christkindlmarkt Wolfsberg
URL:https://chorusparadisi.at/index.php?option=com_jem&view=event&id=3442:e
 roeffnung-christkindlmarkt-wolfsberg
END:VEVENT
END:VCALENDAR
